BEGIN:VCALENDAR
VERSION:2.0
PRODID:-//Squarespace Inc/Squarespace 6//v6//EN
BEGIN:VEVENT
UID:5dca38c00ca1654bf8fe25c9@squarespace.com
DTSTAMP:20191112T045915Z
DTSTART:20191215T020000Z
DTEND:20191215T080000Z
SUMMARY:Axedale Community Christmas Party
END:VEVENT
END:VCALENDAR
