BEGIN:VCALENDAR
VERSION:2.0
PRODID:-//Squarespace Inc/Squarespace 6//v6//EN
BEGIN:VEVENT
UID:5df0639fad109f6d8b694569@squarespace.com
DTSTAMP:20191211T033610Z
DTSTART:20200223T020000Z
DTEND:20200223T050000Z
SUMMARY:Ben Whiting | Axedale Tavern
GEO:-36.787764;144.504038
LOCATION:Axedale Tavern
END:VEVENT
END:VCALENDAR
