BEGIN:VCALENDAR
VERSION:2.0
PRODID:-//Squarespace Inc/Squarespace 6//v6//EN
BEGIN:VEVENT
UID:5e5491aa69e628321df10d45@squarespace.com
DTSTAMP:20200225T031720Z
DTSTART:20200531T030000Z
DTEND:20200531T050000Z
SUMMARY:Brent Shirley | Axedale Tavern 
GEO:-36.787778;144.504167
LOCATION:Axedale Tavern
END:VEVENT
END:VCALENDAR
