BEGIN:VCALENDAR
VERSION:2.0
PRODID:-//Squarespace Inc/Squarespace 6//v6//EN
BEGIN:VEVENT
UID:5e4cb99949051a01f404187d@squarespace.com
DTSTAMP:20200225T031658Z
DTSTART:20200322T020000Z
DTEND:20200322T050000Z
SUMMARY:Brent Shirley | Axedale Tavern
GEO:-36.787778;144.504167
LOCATION:Axedale Tavern
END:VEVENT
END:VCALENDAR
