BEGIN:VCALENDAR
VERSION:2.0
PRODID:-//Squarespace Inc/Squarespace 6//v6//EN
BEGIN:VEVENT
UID:5df055ab9272dd7e0641ea1d@squarespace.com
DTSTAMP:20200225T031544Z
DTSTART:20200216T020000Z
DTEND:20200216T050000Z
SUMMARY:David Knight | Axedale Tavern
GEO:-36.787764;144.504038
LOCATION:axedale tavern
END:VEVENT
END:VCALENDAR
