BEGIN:VCALENDAR
VERSION:2.0
PRODID:-//Squarespace Inc/Squarespace 6//v6//EN
BEGIN:VEVENT
UID:5dca3a1452b8e671a886fb61@squarespace.com
DTSTAMP:20191211T033115Z
DTSTART:20191228T073000Z
DTEND:20191228T103000Z
SUMMARY:David Knight | Axedale Tavern
END:VEVENT
END:VCALENDAR
