BEGIN:VCALENDAR
VERSION:2.0
PRODID:-//Squarespace Inc/Squarespace 6//v6//EN
BEGIN:VEVENT
UID:5e4b610479fe5b341b6e3483@squarespace.com
DTSTAMP:20200219T042719Z
DTSTART:20200412T013000Z
DTEND:20200412T020000Z
SUMMARY:Easter Egg Hunt | Axeadale Tavern 
GEO:-36.787778;144.504167
LOCATION:Axedale Tavern
END:VEVENT
END:VCALENDAR
