BEGIN:VCALENDAR
VERSION:2.0
PRODID:-//Squarespace Inc/Squarespace 6//v6//EN
BEGIN:VEVENT
UID:5d9d1b8b214964284909db17@squarespace.com
DTSTAMP:20191105T015517Z
DTSTART:20191128T073000Z
DTEND:20191128T103000Z
SUMMARY:Vegan Dinner
END:VEVENT
END:VCALENDAR
