BEGIN:VCALENDAR
VERSION:2.0
PRODID:-//Squarespace Inc/Squarespace 6//v6//EN
BEGIN:VEVENT
UID:5d9d1b8b214964284909db19@squarespace.com
DTSTAMP:20191011T030349Z
DTSTART:20191124T020000Z
DTEND:20191124T040000Z
SUMMARY:Lucy Harrison Live
END:VEVENT
END:VCALENDAR
