BEGIN:VCALENDAR
VERSION:2.0
PRODID:-//Squarespace Inc/Squarespace 6//v6//EN
BEGIN:VEVENT
UID:5d9d1b8b214964284909db11@squarespace.com
DTSTAMP:20191018T033954Z
DTSTART:20191110T020000Z
DTEND:20191110T050000Z
SUMMARY:Flashback Live
GEO:-36.787807;144.504021
LOCATION:Axedale Tavern\, Australia
END:VEVENT
END:VCALENDAR
