BEGIN:VCALENDAR
VERSION:2.0
PRODID:-//Squarespace Inc/Squarespace 6//v6//EN
BEGIN:VEVENT
UID:5e4b4e58c1cd5653bfc7c823@squarespace.com
DTSTAMP:20200218T030652Z
DTSTART:20200412T030000Z
DTEND:20200412T060000Z
SUMMARY:Hey Mister | Axedale Tavern
GEO:-36.787732;144.504156
LOCATION:Axedale Tavern\, 105 McIvor Hwy\, Axedale\, VIC\, 3551\, Australia
END:VEVENT
END:VCALENDAR
