BEGIN:VCALENDAR
VERSION:2.0
PRODID:-//Squarespace Inc/Squarespace 6//v6//EN
BEGIN:VEVENT
UID:5e4b55226d8433076e094e51@squarespace.com
DTSTAMP:20200225T030114Z
DTSTART:20200426T030000Z
DTEND:20200426T060000Z
SUMMARY:Louie &amp\; The Pride | Axedale Tavern
GEO:-36.787778;144.504167
LOCATION:Axedale Tavern
END:VEVENT
END:VCALENDAR
