BEGIN:VCALENDAR
VERSION:2.0
PRODID:-//Squarespace Inc/Squarespace 6//v6//EN
BEGIN:VEVENT
UID:5df0544b84566170b97d4be0@squarespace.com
DTSTAMP:20191211T022920Z
DTSTART:20200112T020000Z
DTEND:20200112T050000Z
SUMMARY:Louie &amp\; The Pride Live at the Axedale Tavern
GEO:-36.787764;144.504038
LOCATION:Axedale Tavern
END:VEVENT
END:VCALENDAR
