BEGIN:VCALENDAR
VERSION:2.0
PRODID:-//Squarespace Inc/Squarespace 6//v6//EN
BEGIN:VEVENT
UID:5df03a3205d4e0298547f0f9@squarespace.com
DTSTAMP:20191211T005749Z
DTSTART:20191229T020000Z
DTEND:20191229T050000Z
SUMMARY:Mia Mazzarella Live at Axedale Tavern
GEO:-36.787764;144.504038
LOCATION:Axedale Tavern
END:VEVENT
END:VCALENDAR
