BEGIN:VCALENDAR
VERSION:2.0
PRODID:-//Squarespace Inc/Squarespace 6//v6//EN
BEGIN:VEVENT
UID:5e4b55f92ab0db77e59a3aff@squarespace.com
DTSTAMP:20200218T031407Z
DTSTART:20200329T020000Z
DTEND:20200329T050000Z
SUMMARY:The King &amp\; The Easy Trio | Axedale Tavern
GEO:40.720756;-74.000761
LOCATION:Axedale Tavern
END:VEVENT
END:VCALENDAR
