BEGIN:VCALENDAR
VERSION:2.0
PRODID:-//Squarespace Inc/Squarespace 6//v6//EN
BEGIN:VEVENT
UID:5e4b56f46d8433076e09ba45@squarespace.com
DTSTAMP:20200218T032108Z
DTSTART:20200308T020000Z
DTEND:20200308T050000Z
SUMMARY:Tori Forsyth &amp\; Carl The Bartender Live
GEO:-36.787778;144.504167
LOCATION:Axedale Tavern
END:VEVENT
END:VCALENDAR
